BEGIN:VCALENDAR
VERSION:2.0
PRODID:-//Tukios.com/
BEGIN:VEVENT
UID:53a691b7-4fc4-4d0d-874f-3b3eafff5bed@www.houseofserenityfandc.com
DTSTAMP:20260426T031847Z
DTSTART:20260509T210000Z
DTEND:20260509T220000Z
SUMMARY:Wake
DESCRIPTION:
URL:https://www.houseofserenityfandc.com/obituaries/andrew-de-la-garza
LOCATION: 4725 Vermont Ave  Fort Worth TX 76115
GEO:32.6771951;-97.3227053
END:VEVENT
END:VCALENDAR