BEGIN:VCALENDAR
VERSION:2.0
PRODID:-//Tukios.com/
BEGIN:VEVENT
UID:0ce11d82-6181-44ba-a4ba-d28a08b943ee@www.houseofserenityfandc.com
DTSTAMP:20260426T032412Z
DTSTART:20260509T190000Z
DTEND:20260509T210000Z
SUMMARY:Viewing
DESCRIPTION:
URL:https://www.houseofserenityfandc.com/obituaries/andrew-de-la-garza
LOCATION: 4725 Vermont Ave  Fort Worth TX 76115
GEO:32.6771951;-97.3227053
END:VEVENT
END:VCALENDAR