BEGIN:VCALENDAR
VERSION:2.0
PRODID:-//Tukios.com/
BEGIN:VEVENT
UID:88f51c57-f4a7-4021-a447-7e00926d7156@www.houseofserenityfandc.com
DTSTAMP:20260426T033308Z
DTSTART:20260501T170000Z
DTEND:20260502T000000Z
SUMMARY:Visitation
DESCRIPTION:
URL:https://www.houseofserenityfandc.com/obituaries/frank-hightower-jr
LOCATION: 4725 Vermont Ave  Fort Worth TX 76115
GEO:32.6771951;-97.3227053
END:VEVENT
END:VCALENDAR