BEGIN:VCALENDAR
VERSION:2.0
PRODID:-//Tukios.com/
BEGIN:VEVENT
UID:b9c0f5d3-12d8-436f-970e-824624e1b9a7@www.houseofserenityfandc.com
DTSTAMP:20260426T033703Z
DTSTART:20260502T000000Z
DTEND:20260502T020000Z
SUMMARY:Wake
DESCRIPTION:
URL:https://www.houseofserenityfandc.com/obituaries/frank-hightower-jr
LOCATION: 4725 Vermont Ave  Fort Worth TX 76115
GEO:32.6771951;-97.3227053
END:VEVENT
END:VCALENDAR