BEGIN:VCALENDAR
VERSION:2.0
PRODID:-//Tukios.com/
BEGIN:VEVENT
UID:8fc3fd6f-3428-4f63-be70-0b22cef72142@www.houseofserenityfandc.com
DTSTAMP:20260426T033419Z
DTSTART:20260502T160000Z
DTEND:20260502T170000Z
SUMMARY:Celebration of Life
DESCRIPTION:
URL:https://www.houseofserenityfandc.com/obituaries/frank-hightower-jr
LOCATION: 5806 Hartman Rd  Fort Worth TX 76119
GEO:32.6770237;-97.2597716
END:VEVENT
END:VCALENDAR