BEGIN:VCALENDAR
VERSION:2.0
PRODID:-//Tukios.com/
BEGIN:VEVENT
UID:33f5cc61-862b-48e5-8437-721a445d4815@www.houseofserenityfandc.com
DTSTAMP:20260426T033934Z
DTSTART:20260502T183000Z
DTEND:20260502T193000Z
SUMMARY:Burial
DESCRIPTION:
URL:https://www.houseofserenityfandc.com/obituaries/frank-hightower-jr
LOCATION: 8301 Mansfield Highway  Arlington TX 76001
GEO:32.6146876;-97.182387
END:VEVENT
END:VCALENDAR