BEGIN:VCALENDAR
VERSION:2.0
PRODID:-//Tukios.com/
BEGIN:VEVENT
UID:dcc8e143-9973-4f9b-9b34-edea178cfd43@www.houseofserenityfandc.com
DTSTAMP:20260423T222529Z
DTSTART:20260502T160000Z
DTEND:20260502T170000Z
SUMMARY:Memorial Service
DESCRIPTION:
URL:https://www.houseofserenityfandc.com/obituaries/horace-chiles
LOCATION: 4725 Vermont Ave  Fort Worth TX 76115
GEO:32.6771951;-97.3227053
END:VEVENT
END:VCALENDAR