BEGIN:VCALENDAR
VERSION:2.0
PRODID:-//Tukios.com/
BEGIN:VEVENT
UID:32fe81a5-81b6-443b-820a-ae55eaecb78a@www.houseofserenityfandc.com
DTSTAMP:20260426T032125Z
DTSTART:20260504T160000Z
DTEND:20260504T180000Z
SUMMARY:Visitation
DESCRIPTION:
URL:https://www.houseofserenityfandc.com/obituaries/laretha-price
LOCATION: 4725 Vermont Ave  Fort Worth TX 76115
GEO:32.6771951;-97.3227053
END:VEVENT
END:VCALENDAR