BEGIN:VCALENDAR
VERSION:2.0
PRODID:-//Tukios.com/
BEGIN:VEVENT
UID:d7fe058f-ee99-4f79-9992-8314f0c900a1@www.houseofserenityfandc.com
DTSTAMP:20260426T032125Z
DTSTART:20260504T180000Z
DTEND:20260504T190000Z
SUMMARY:Celebration of Life
DESCRIPTION:
URL:https://www.houseofserenityfandc.com/obituaries/laretha-price
LOCATION: 4725 Vermont Ave  Fort Worth TX 76115
GEO:32.6771951;-97.3227053
END:VEVENT
END:VCALENDAR